BEGIN:VCALENDAR
VERSION:2.0
PRODID:-//IAM Union - Local 2323 - ECPv6.15.20//NONSGML v1.0//EN
CALSCALE:GREGORIAN
METHOD:PUBLISH
X-ORIGINAL-URL:https://iamaw2323.ca
X-WR-CALDESC:Events for IAM Union - Local 2323
REFRESH-INTERVAL;VALUE=DURATION:PT1H
X-Robots-Tag:noindex
X-PUBLISHED-TTL:PT1H
BEGIN:VTIMEZONE
TZID:America/Toronto
BEGIN:DAYLIGHT
TZOFFSETFROM:-0500
TZOFFSETTO:-0400
TZNAME:EDT
DTSTART:20220313T070000
END:DAYLIGHT
BEGIN:STANDARD
TZOFFSETFROM:-0400
TZOFFSETTO:-0500
TZNAME:EST
DTSTART:20221106T060000
END:STANDARD
BEGIN:DAYLIGHT
TZOFFSETFROM:-0500
TZOFFSETTO:-0400
TZNAME:EDT
DTSTART:20230312T070000
END:DAYLIGHT
BEGIN:STANDARD
TZOFFSETFROM:-0400
TZOFFSETTO:-0500
TZNAME:EST
DTSTART:20231105T060000
END:STANDARD
BEGIN:DAYLIGHT
TZOFFSETFROM:-0500
TZOFFSETTO:-0400
TZNAME:EDT
DTSTART:20240310T070000
END:DAYLIGHT
BEGIN:STANDARD
TZOFFSETFROM:-0400
TZOFFSETTO:-0500
TZNAME:EST
DTSTART:20241103T060000
END:STANDARD
BEGIN:DAYLIGHT
TZOFFSETFROM:-0500
TZOFFSETTO:-0400
TZNAME:EDT
DTSTART:20250309T070000
END:DAYLIGHT
BEGIN:STANDARD
TZOFFSETFROM:-0400
TZOFFSETTO:-0500
TZNAME:EST
DTSTART:20251102T060000
END:STANDARD
BEGIN:DAYLIGHT
TZOFFSETFROM:-0500
TZOFFSETTO:-0400
TZNAME:EDT
DTSTART:20260308T070000
END:DAYLIGHT
BEGIN:STANDARD
TZOFFSETFROM:-0400
TZOFFSETTO:-0500
TZNAME:EST
DTSTART:20261101T060000
END:STANDARD
END:VTIMEZONE
BEGIN:VEVENT
DTSTART;TZID=America/Toronto:20251202T180000
DTEND;TZID=America/Toronto:20251202T220000
DTSTAMP:20260420T013909
CREATED:20250107T004015Z
LAST-MODIFIED:20250107T004015Z
UID:43138-1764698400-1764712800@iamaw2323.ca
SUMMARY:December Monthly Membership Meeting 2025
DESCRIPTION:Join us on the first Tuesday of every month for our Membership Meetings. \nIt’s your opportunity to voice your opinions\, stay informed on union affairs\, and contribute to the decisions that affect us all.
URL:https://iamaw2323.ca/event/december-monthly-membership-meeting-2025/
LOCATION:Local 2323 AdministrationOffice\, 2580 Drew Rd\, Suite 202\, Mississauga\, Ontario\, L4T 3M5\, Canada
CATEGORIES:Monthly Membership Meeting
ORGANIZER;CN="IAMAW LOCAL 2323":MAILTO:communicator@iamaw2323.ca
END:VEVENT
BEGIN:VEVENT
DTSTART;TZID=America/Toronto:20251104T180000
DTEND;TZID=America/Toronto:20251104T220000
DTSTAMP:20260420T013909
CREATED:20250107T003748Z
LAST-MODIFIED:20250107T003748Z
UID:43136-1762279200-1762293600@iamaw2323.ca
SUMMARY:November Monthly Membership Meeting 2025
DESCRIPTION:Join us on the first Tuesday of every month for our Membership Meetings. \nIt’s your opportunity to voice your opinions\, stay informed on union affairs\, and contribute to the decisions that affect us all.
URL:https://iamaw2323.ca/event/november-monthly-membership-meeting-2025/
LOCATION:Local 2323 AdministrationOffice\, 2580 Drew Rd\, Suite 202\, Mississauga\, Ontario\, L4T 3M5\, Canada
CATEGORIES:Monthly Membership Meeting
ORGANIZER;CN="IAMAW LOCAL 2323":MAILTO:communicator@iamaw2323.ca
END:VEVENT
BEGIN:VEVENT
DTSTART;TZID=America/Toronto:20251007T180000
DTEND;TZID=America/Toronto:20251007T220000
DTSTAMP:20260420T013909
CREATED:20250107T002351Z
LAST-MODIFIED:20250107T002351Z
UID:43134-1759860000-1759874400@iamaw2323.ca
SUMMARY:October Monthly Membership Meeting 2025
DESCRIPTION:Join us on the first Tuesday of every month for our Membership Meetings. \nIt’s your opportunity to voice your opinions\, stay informed on union affairs\, and contribute to the decisions that affect us all.
URL:https://iamaw2323.ca/event/october-monthly-membership-meeting-2025/
LOCATION:Local 2323 AdministrationOffice\, 2580 Drew Rd\, Suite 202\, Mississauga\, Ontario\, L4T 3M5\, Canada
CATEGORIES:Monthly Membership Meeting
ORGANIZER;CN="IAMAW LOCAL 2323":MAILTO:communicator@iamaw2323.ca
END:VEVENT
BEGIN:VEVENT
DTSTART;TZID=America/Toronto:20250902T180000
DTEND;TZID=America/Toronto:20250902T220000
DTSTAMP:20260420T013909
CREATED:20250107T002126Z
LAST-MODIFIED:20250107T002126Z
UID:43132-1756836000-1756850400@iamaw2323.ca
SUMMARY:September Monthly Membership Meeting 2025
DESCRIPTION:Join us on the first Tuesday of every month for our Membership Meetings. \nIt’s your opportunity to voice your opinions\, stay informed on union affairs\, and contribute to the decisions that affect us all.
URL:https://iamaw2323.ca/event/september-monthly-membership-meeting-2025/
LOCATION:Local 2323 AdministrationOffice\, 2580 Drew Rd\, Suite 202\, Mississauga\, Ontario\, L4T 3M5\, Canada
CATEGORIES:Monthly Membership Meeting
ORGANIZER;CN="IAMAW LOCAL 2323":MAILTO:communicator@iamaw2323.ca
END:VEVENT
BEGIN:VEVENT
DTSTART;TZID=America/Toronto:20250805T180000
DTEND;TZID=America/Toronto:20250805T220000
DTSTAMP:20260420T013909
CREATED:20250107T001924Z
LAST-MODIFIED:20250107T001924Z
UID:43130-1754416800-1754431200@iamaw2323.ca
SUMMARY:August Monthly Membership Meeting 2025
DESCRIPTION:Join us on the first Tuesday of every month for our Membership Meetings. \nIt’s your opportunity to voice your opinions\, stay informed on union affairs\, and contribute to the decisions that affect us all.
URL:https://iamaw2323.ca/event/august-monthly-membership-meeting-2025/
LOCATION:Local 2323 AdministrationOffice\, 2580 Drew Rd\, Suite 202\, Mississauga\, Ontario\, L4T 3M5\, Canada
CATEGORIES:Monthly Membership Meeting
ORGANIZER;CN="IAMAW LOCAL 2323":MAILTO:communicator@iamaw2323.ca
END:VEVENT
BEGIN:VEVENT
DTSTART;TZID=America/Toronto:20250701T180000
DTEND;TZID=America/Toronto:20250708T220000
DTSTAMP:20260420T013909
CREATED:20250107T001549Z
LAST-MODIFIED:20250107T015817Z
UID:43128-1751392800-1752012000@iamaw2323.ca
SUMMARY:July Monthly Membership Meeting 2025
DESCRIPTION:Join us on the first Tuesday of every month for our Membership Meetings. \nIt’s your opportunity to voice your opinions\, stay informed on union affairs\, and contribute to the decisions that affect us all.
URL:https://iamaw2323.ca/event/july-monthly-membership-meeting-2025/
LOCATION:Local 2323 AdministrationOffice\, 2580 Drew Rd\, Suite 202\, Mississauga\, Ontario\, L4T 3M5\, Canada
CATEGORIES:Monthly Membership Meeting
ORGANIZER;CN="IAMAW LOCAL 2323":MAILTO:communicator@iamaw2323.ca
END:VEVENT
BEGIN:VEVENT
DTSTART;TZID=America/Toronto:20250603T180000
DTEND;TZID=America/Toronto:20250603T220000
DTSTAMP:20260420T013909
CREATED:20250107T000423Z
LAST-MODIFIED:20250107T000423Z
UID:43126-1748973600-1748988000@iamaw2323.ca
SUMMARY:June Monthly Membership Meeting 2025
DESCRIPTION:Join us on the first Tuesday of every month for our Membership Meetings. \nIt’s your opportunity to voice your opinions\, stay informed on union affairs\, and contribute to the decisions that affect us all.
URL:https://iamaw2323.ca/event/june-monthly-membership-meeting-2025/
LOCATION:Local 2323 AdministrationOffice\, 2580 Drew Rd\, Suite 202\, Mississauga\, Ontario\, L4T 3M5\, Canada
CATEGORIES:Monthly Membership Meeting
ORGANIZER;CN="IAMAW LOCAL 2323":MAILTO:communicator@iamaw2323.ca
END:VEVENT
BEGIN:VEVENT
DTSTART;TZID=America/Toronto:20250506T180000
DTEND;TZID=America/Toronto:20250506T220000
DTSTAMP:20260420T013909
CREATED:20250107T000227Z
LAST-MODIFIED:20250107T000227Z
UID:43124-1746554400-1746568800@iamaw2323.ca
SUMMARY:May Monthly Membership Meeting 2025
DESCRIPTION:Join us on the first Tuesday of every month for our Membership Meetings. \nIt’s your opportunity to voice your opinions\, stay informed on union affairs\, and contribute to the decisions that affect us all.
URL:https://iamaw2323.ca/event/may-monthly-membership-meeting-2025/
LOCATION:Ontario
CATEGORIES:Monthly Membership Meeting
END:VEVENT
BEGIN:VEVENT
DTSTART;TZID=America/Toronto:20250401T180000
DTEND;TZID=America/Toronto:20250401T220000
DTSTAMP:20260420T013909
CREATED:20250107T000030Z
LAST-MODIFIED:20250107T000030Z
UID:43122-1743530400-1743544800@iamaw2323.ca
SUMMARY:April Monthly Membership Meeting 2025
DESCRIPTION:Join us on the first Tuesday of every month for our Membership Meetings. \nIt’s your opportunity to voice your opinions\, stay informed on union affairs\, and contribute to the decisions that affect us all. \n 
URL:https://iamaw2323.ca/event/april-monthly-membership-meeting-2025/
LOCATION:Local 2323 AdministrationOffice\, 2580 Drew Rd\, Suite 202\, Mississauga\, Ontario\, L4T 3M5\, Canada
CATEGORIES:Monthly Membership Meeting
ORGANIZER;CN="IAMAW LOCAL 2323":MAILTO:communicator@iamaw2323.ca
END:VEVENT
BEGIN:VEVENT
DTSTART;TZID=America/Toronto:20250304T180000
DTEND;TZID=America/Toronto:20250304T220000
DTSTAMP:20260420T013909
CREATED:20250106T235751Z
LAST-MODIFIED:20250106T235751Z
UID:43120-1741111200-1741125600@iamaw2323.ca
SUMMARY:March Monthly Membership Meeting 2025
DESCRIPTION:Join us on the first Tuesday of every month for our Membership Meetings. \nIt’s your opportunity to voice your opinions\, stay informed on union affairs\, and contribute to the decisions that affect us all.
URL:https://iamaw2323.ca/event/march-monthly-membership-meeting-2025/
LOCATION:Local 2323 AdministrationOffice\, 2580 Drew Rd\, Suite 202\, Mississauga\, Ontario\, L4T 3M5\, Canada
CATEGORIES:Monthly Membership Meeting
ORGANIZER;CN="IAMAW LOCAL 2323":MAILTO:communicator@iamaw2323.ca
END:VEVENT
BEGIN:VEVENT
DTSTART;TZID=America/Toronto:20250204T180000
DTEND;TZID=America/Toronto:20250204T220000
DTSTAMP:20260420T013909
CREATED:20250106T233743Z
LAST-MODIFIED:20250106T233743Z
UID:43118-1738692000-1738706400@iamaw2323.ca
SUMMARY:February Monthly Membership Meeting 2025
DESCRIPTION:Join us on the first Tuesday of every month for our Membership Meetings. \nIt’s your opportunity to voice your opinions\, stay informed on union affairs\, and contribute to the decisions that affect us all.
URL:https://iamaw2323.ca/event/february-monthly-membership-meeting-2025/
LOCATION:Local 2323 AdministrationOffice\, 2580 Drew Rd\, Suite 202\, Mississauga\, Ontario\, L4T 3M5\, Canada
CATEGORIES:Monthly Membership Meeting
ORGANIZER;CN="IAMAW LOCAL 2323":MAILTO:communicator@iamaw2323.ca
END:VEVENT
BEGIN:VEVENT
DTSTART;TZID=America/Toronto:20250107T180000
DTEND;TZID=America/Toronto:20250107T220000
DTSTAMP:20260420T013909
CREATED:20250106T233248Z
LAST-MODIFIED:20250106T233248Z
UID:43115-1736272800-1736287200@iamaw2323.ca
SUMMARY:January Monthly Membership Meeting 2025
DESCRIPTION:Join us on the first Tuesday of every month for our Membership Meetings. \nIt’s your opportunity to voice your opinions\, stay informed on union affairs\, and contribute to the decisions that affect us all. \n  \n 
URL:https://iamaw2323.ca/event/january-monthly-membership-meeting-2025/
LOCATION:Local 2323 AdministrationOffice\, 2580 Drew Rd\, Suite 202\, Mississauga\, Ontario\, L4T 3M5\, Canada
CATEGORIES:Monthly Membership Meeting
ORGANIZER;CN="IAMAW LOCAL 2323":MAILTO:communicator@iamaw2323.ca
END:VEVENT
BEGIN:VEVENT
DTSTART;TZID=America/Toronto:20241203T180000
DTEND;TZID=America/Toronto:20241203T210000
DTSTAMP:20260420T013909
CREATED:20231109T155836Z
LAST-MODIFIED:20241104T183730Z
UID:32841-1733248800-1733259600@iamaw2323.ca
SUMMARY:Monthly Membership Meeting
DESCRIPTION:Join us on the first Tuesday of every month for our Membership Meetings.\n  \nIt’s your opportunity to voice your opinions\, stay informed on union affairs\, and contribute to the decisions that affect us all.
URL:https://iamaw2323.ca/event/monthly-membership-meeting-3/
LOCATION:Local 2323 AdministrationOffice\, 2580 Drew Rd\, Suite 202\, Mississauga\, Ontario\, L4T 3M5\, Canada
CATEGORIES:Monthly Membership Meeting
ORGANIZER;CN="IAMAW LOCAL 2323":MAILTO:communicator@iamaw2323.ca
END:VEVENT
BEGIN:VEVENT
DTSTART;TZID=America/Toronto:20241105T180000
DTEND;TZID=America/Toronto:20241105T210000
DTSTAMP:20260420T013909
CREATED:20231109T155929Z
LAST-MODIFIED:20241104T183630Z
UID:32840-1730829600-1730840400@iamaw2323.ca
SUMMARY:Monthly Membership Meeting
DESCRIPTION:Join us on the first Tuesday of every month for our Membership Meetings. It’s your opportunity to voice your opinions\, stay informed on union affairs\, and contribute to the decisions that affect us all.
URL:https://iamaw2323.ca/event/monthly-membership-meeting-14/
LOCATION:Local 2323 AdministrationOffice\, 2580 Drew Rd\, Suite 202\, Mississauga\, Ontario\, L4T 3M5\, Canada
CATEGORIES:Monthly Membership Meeting
ORGANIZER;CN="IAMAW LOCAL 2323":MAILTO:communicator@iamaw2323.ca
END:VEVENT
BEGIN:VEVENT
DTSTART;TZID=America/Toronto:20241001T190000
DTEND;TZID=America/Toronto:20241001T210000
DTSTAMP:20260420T013909
CREATED:20231109T155927Z
LAST-MODIFIED:20231109T161427Z
UID:32839-1727809200-1727816400@iamaw2323.ca
SUMMARY:Monthly Membership Meeting
DESCRIPTION:Join us on the first Tuesday of every month for our Membership Meetings. It’s your opportunity to voice your opinions\, stay informed on union affairs\, and contribute to the decisions that affect us all.
URL:https://iamaw2323.ca/event/monthly-membership-meeting-13/
LOCATION:Local 2323 AdministrationOffice\, 2580 Drew Rd\, Suite 202\, Mississauga\, Ontario\, L4T 3M5\, Canada
CATEGORIES:Monthly Membership Meeting
ORGANIZER;CN="IAMAW LOCAL 2323":MAILTO:communicator@iamaw2323.ca
END:VEVENT
BEGIN:VEVENT
DTSTART;TZID=America/Toronto:20240903T180000
DTEND;TZID=America/Toronto:20240903T210000
DTSTAMP:20260420T013909
CREATED:20231109T155925Z
LAST-MODIFIED:20240824T000828Z
UID:32838-1725386400-1725397200@iamaw2323.ca
SUMMARY:Monthly Membership Meeting
DESCRIPTION:Join us on the first Tuesday of every month for our Membership Meetings. It’s your opportunity to voice your opinions\, stay informed on union affairs\, and contribute to the decisions that affect us all.
URL:https://iamaw2323.ca/event/monthly-membership-meeting-12/
LOCATION:Local 2323 AdministrationOffice\, 2580 Drew Rd\, Suite 202\, Mississauga\, Ontario\, L4T 3M5\, Canada
CATEGORIES:Monthly Membership Meeting
ORGANIZER;CN="IAMAW LOCAL 2323":MAILTO:communicator@iamaw2323.ca
END:VEVENT
BEGIN:VEVENT
DTSTART;TZID=America/Toronto:20240806T190000
DTEND;TZID=America/Toronto:20240806T210000
DTSTAMP:20260420T013909
CREATED:20231109T155923Z
LAST-MODIFIED:20231109T161427Z
UID:32837-1722970800-1722978000@iamaw2323.ca
SUMMARY:Monthly Membership Meeting
DESCRIPTION:Join us on the first Tuesday of every month for our Membership Meetings. It’s your opportunity to voice your opinions\, stay informed on union affairs\, and contribute to the decisions that affect us all.
URL:https://iamaw2323.ca/event/monthly-membership-meeting-11/
LOCATION:Local 2323 AdministrationOffice\, 2580 Drew Rd\, Suite 202\, Mississauga\, Ontario\, L4T 3M5\, Canada
CATEGORIES:Monthly Membership Meeting
ORGANIZER;CN="IAMAW LOCAL 2323":MAILTO:communicator@iamaw2323.ca
END:VEVENT
BEGIN:VEVENT
DTSTART;TZID=America/Toronto:20240702T180000
DTEND;TZID=America/Toronto:20240702T220000
DTSTAMP:20260420T013909
CREATED:20231109T155920Z
LAST-MODIFIED:20240609T022510Z
UID:32836-1719943200-1719957600@iamaw2323.ca
SUMMARY:Monthly Membership Meeting
DESCRIPTION:Join us on the first Tuesday of every month for our Membership Meetings. It’s your opportunity to voice your opinions\, stay informed on union affairs\, and contribute to the decisions that affect us all. \n  \nNote: Time for the meeting has been changed to 18:00 hrs. \n  \n 
URL:https://iamaw2323.ca/event/monthly-membership-meeting-10/
LOCATION:Local 2323 AdministrationOffice\, 2580 Drew Rd\, Suite 202\, Mississauga\, Ontario\, L4T 3M5\, Canada
CATEGORIES:Monthly Membership Meeting
ORGANIZER;CN="IAMAW LOCAL 2323":MAILTO:communicator@iamaw2323.ca
END:VEVENT
BEGIN:VEVENT
DTSTART;TZID=America/Toronto:20240604T180000
DTEND;TZID=America/Toronto:20240604T220000
DTSTAMP:20260420T013909
CREATED:20231109T155920Z
LAST-MODIFIED:20240602T041814Z
UID:32835-1717524000-1717538400@iamaw2323.ca
SUMMARY:Monthly Membership Meeting
DESCRIPTION:Join us on the first Tuesday of every month for our Membership Meetings. It’s your opportunity to voice your opinions\, stay informed on union affairs\, and contribute to the decisions that affect us all. \n  \nChange of start time to 18:00
URL:https://iamaw2323.ca/event/monthly-membership-meeting-9/
LOCATION:Local 2323 AdministrationOffice\, 2580 Drew Rd\, Suite 202\, Mississauga\, Ontario\, L4T 3M5\, Canada
CATEGORIES:Monthly Membership Meeting
ORGANIZER;CN="IAMAW LOCAL 2323":MAILTO:communicator@iamaw2323.ca
END:VEVENT
BEGIN:VEVENT
DTSTART;TZID=America/Toronto:20240507T180000
DTEND;TZID=America/Toronto:20240507T220000
DTSTAMP:20260420T013909
CREATED:20231109T155919Z
LAST-MODIFIED:20240416T182510Z
UID:32834-1715104800-1715119200@iamaw2323.ca
SUMMARY:Monthly Membership Meeting
DESCRIPTION:Join us on the first Tuesday of every month for our Membership Meetings. It’s your opportunity to voice your opinions\, stay informed on union affairs\, and contribute to the decisions that affect us all.
URL:https://iamaw2323.ca/event/monthly-membership-meeting-8/
LOCATION:Local 2323 AdministrationOffice\, 2580 Drew Rd\, Suite 202\, Mississauga\, Ontario\, L4T 3M5\, Canada
CATEGORIES:Monthly Membership Meeting
ORGANIZER;CN="IAMAW LOCAL 2323":MAILTO:communicator@iamaw2323.ca
END:VEVENT
BEGIN:VEVENT
DTSTART;TZID=America/Toronto:20240412T110000
DTEND;TZID=America/Toronto:20240412T140000
DTSTAMP:20260420T013909
CREATED:20240216T174154Z
LAST-MODIFIED:20240216T174154Z
UID:39457-1712919600-1712930400@iamaw2323.ca
SUMMARY:YOW Union Meeting
DESCRIPTION:Details will be posted soon.
URL:https://iamaw2323.ca/event/yow-union-meeting/
LOCATION:YOW
CATEGORIES:Monthly Membership Meeting
ORGANIZER;CN="IAMAW LOCAL 2323":MAILTO:communicator@iamaw2323.ca
END:VEVENT
BEGIN:VEVENT
DTSTART;TZID=America/Toronto:20240402T180000
DTEND;TZID=America/Toronto:20240402T220000
DTSTAMP:20260420T013909
CREATED:20231109T155918Z
LAST-MODIFIED:20240401T185334Z
UID:32833-1712080800-1712095200@iamaw2323.ca
SUMMARY:Monthly Membership Meeting
DESCRIPTION:Join us on the first Tuesday of every month for our Membership Meetings.
URL:https://iamaw2323.ca/event/monthly-membership-meeting-7/
LOCATION:Local 2323 AdministrationOffice\, 2580 Drew Rd\, Suite 202\, Mississauga\, Ontario\, L4T 3M5\, Canada
CATEGORIES:Monthly Membership Meeting
ORGANIZER;CN="IAMAW LOCAL 2323":MAILTO:communicator@iamaw2323.ca
END:VEVENT
BEGIN:VEVENT
DTSTART;TZID=America/Toronto:20240305T173000
DTEND;TZID=America/Toronto:20240305T193000
DTSTAMP:20260420T013909
CREATED:20231109T155916Z
LAST-MODIFIED:20240117T221929Z
UID:32832-1709659800-1709667000@iamaw2323.ca
SUMMARY:Monthly Membership Meeting
DESCRIPTION:Join us on the first Tuesday of every month for our Membership Meetings. It’s your opportunity to voice your opinions\, stay informed on union affairs\, and contribute to the decisions that affect us all.
URL:https://iamaw2323.ca/event/monthly-membership-meeting-6/
LOCATION:Local 2323 AdministrationOffice\, 2580 Drew Rd\, Suite 202\, Mississauga\, Ontario\, L4T 3M5\, Canada
CATEGORIES:Monthly Membership Meeting
ORGANIZER;CN="IAMAW LOCAL 2323":MAILTO:communicator@iamaw2323.ca
END:VEVENT
BEGIN:VEVENT
DTSTART;TZID=America/Toronto:20240206T173000
DTEND;TZID=America/Toronto:20240206T193000
DTSTAMP:20260420T013909
CREATED:20231109T155915Z
LAST-MODIFIED:20240117T221858Z
UID:32831-1707240600-1707247800@iamaw2323.ca
SUMMARY:Monthly Membership Meeting
DESCRIPTION:Join us on the first Tuesday of every month for our Membership Meetings. It’s your opportunity to voice your opinions\, stay informed on union affairs\, and contribute to the decisions that affect us all.
URL:https://iamaw2323.ca/event/monthly-membership-meeting-5/
LOCATION:Local 2323 AdministrationOffice\, 2580 Drew Rd\, Suite 202\, Mississauga\, Ontario\, L4T 3M5\, Canada
CATEGORIES:Monthly Membership Meeting
ORGANIZER;CN="IAMAW LOCAL 2323":MAILTO:communicator@iamaw2323.ca
END:VEVENT
BEGIN:VEVENT
DTSTART;TZID=America/Toronto:20240102T173000
DTEND;TZID=America/Toronto:20240102T193000
DTSTAMP:20260420T013909
CREATED:20231109T155912Z
LAST-MODIFIED:20231212T213442Z
UID:32830-1704216600-1704223800@iamaw2323.ca
SUMMARY:Monthly Membership Meeting
DESCRIPTION:Join us on the first Tuesday of every month for our Membership Meetings. It’s your opportunity to voice your opinions\, stay informed on union affairs\, and contribute to the decisions that affect us all.
URL:https://iamaw2323.ca/event/monthly-membership-meeting-4/
LOCATION:Local 2323 AdministrationOffice\, 2580 Drew Rd\, Suite 202\, Mississauga\, Ontario\, L4T 3M5\, Canada
CATEGORIES:Monthly Membership Meeting
ORGANIZER;CN="IAMAW LOCAL 2323":MAILTO:communicator@iamaw2323.ca
END:VEVENT
BEGIN:VEVENT
DTSTART;TZID=America/Toronto:20231205T190000
DTEND;TZID=America/Toronto:20231205T210000
DTSTAMP:20260420T013909
CREATED:20231014T013317Z
LAST-MODIFIED:20231109T161427Z
UID:29598-1701802800-1701810000@iamaw2323.ca
SUMMARY:Monthly Membership Meeting
DESCRIPTION:Join us on the first Tuesday of every month for our Membership Meetings. It’s your opportunity to voice your opinions\, stay informed on union affairs\, and contribute to the decisions that affect us all.
URL:https://iamaw2323.ca/event/monthly-membership-meeting/
LOCATION:Local 2323 AdministrationOffice\, 2580 Drew Rd\, Suite 202\, Mississauga\, Ontario\, L4T 3M5\, Canada
CATEGORIES:Monthly Membership Meeting
ORGANIZER;CN="IAMAW LOCAL 2323":MAILTO:communicator@iamaw2323.ca
END:VEVENT
BEGIN:VEVENT
DTSTART;TZID=America/Toronto:20231107T190000
DTEND;TZID=America/Toronto:20231107T210000
DTSTAMP:20260420T013909
CREATED:20231109T155834Z
LAST-MODIFIED:20231109T161542Z
UID:32842-1699383600-1699390800@iamaw2323.ca
SUMMARY:Monthly Membership Meeting
DESCRIPTION:Join us on the first Tuesday of every month for our Membership Meetings. It’s your opportunity to voice your opinions\, stay informed on union affairs\, and contribute to the decisions that affect us all.
URL:https://iamaw2323.ca/event/monthly-membership-meeting-2/
LOCATION:Local 2323 AdministrationOffice\, 2580 Drew Rd\, Suite 202\, Mississauga\, Ontario\, L4T 3M5\, Canada
CATEGORIES:Monthly Membership Meeting
ORGANIZER;CN="IAMAW LOCAL 2323":MAILTO:communicator@iamaw2323.ca
END:VEVENT
END:VCALENDAR